BEGIN:VCALENDAR
VERSION:2.0
PRODID:-//wp-events-plugin.com//6.6.4.4//EN
TZID:Asia/Tokyo
X-WR-TIMEZONE:Asia/Tokyo
BEGIN:VEVENT
UID:64@sfh-net.or.jp
DTSTART;TZID=Asia/Tokyo:20210202T140000
DTEND;TZID=Asia/Tokyo:20210202T161500
DTSTAMP:20210114T061135Z
URL:https://sfh-net.or.jp/schedule/%e6%b1%ba%e7%ae%97%e6%b3%95%e4%ba%ba%e8
 %aa%ac%e6%98%8e%e4%bc%9a%e3%81%ae%e9%96%8b%e5%82%ac-4/
SUMMARY:決算法人説明会の開催（中止）＊研修用動画があ
 ります！
DESCRIPTION:決算法人説明会は、新型コロナウイルス緊急事
 態宣言発令に伴い会場が使用できなくなったため、中
 止となりました。\n\nなお、全法連の「新型コロナウイ
 ルス対策リンク集」に研修用動画（これだけは知って
 おきたい『決算』対策（決算法人用）〔H29.3制作　R2.6
 改訂〕）が追加されましたので、ご覧ください。\n\nま
 た、全法連のテキストとして、\n\n令和２年度税制改正
 のあらまし\n\nわかりやすい会社の決算・申告の実務（
 決算法人用）\n\nも参考にしてください。\n\n&nbsp\;
END:VEVENT
BEGIN:VTIMEZONE
TZID:Asia/Tokyo
X-LIC-LOCATION:Asia/Tokyo
BEGIN:STANDARD
DTSTART:20200203T140000
TZOFFSETFROM:+0900
TZOFFSETTO:+0900
TZNAME:JST
END:STANDARD
END:VTIMEZONE
END:VCALENDAR