BEGIN:VCALENDAR
VERSION:2.0
PRODID:-//wp-events-plugin.com//6.6.4.4//EN
TZID:Asia/Tokyo
X-WR-TIMEZONE:Asia/Tokyo
BEGIN:VEVENT
UID:86@sfh-net.or.jp
DTSTART;TZID=Asia/Tokyo:20211119T190000
DTEND;TZID=Asia/Tokyo:20211119T203000
DTSTAMP:20211001T040359Z
URL:https://sfh-net.or.jp/schedule/%e5%81%a5%e5%ba%b7%e3%82%bb%e3%83%9f%e3
 %83%8a%e3%83%bc%ef%bc%88%e3%83%a8%e3%82%ac%e4%bd%93%e9%a8%93%ef%bc%89%e3%8
 1%ae%e3%81%94%e6%a1%88%e5%86%85/
SUMMARY:健康セミナー（ヨガ体験）のご案内
DESCRIPTION:Zoomによる初心者向けヨガ体験\n\n前回好評だっ
 たヨガ体験を、ご自宅やお好きな場所でご参加いただ
 けるように、オンラインによる初心者向けヨガ体験を
 企画しました。\n\n詳しくは、次のチラシをご覧いただ
 き参加希望者はFAXにて申込みください。\n\nチラシ　2021
 1001084921
END:VEVENT
BEGIN:VTIMEZONE
TZID:Asia/Tokyo
X-LIC-LOCATION:Asia/Tokyo
BEGIN:STANDARD
DTSTART:20201119T190000
TZOFFSETFROM:+0900
TZOFFSETTO:+0900
TZNAME:JST
END:STANDARD
END:VTIMEZONE
END:VCALENDAR