BEGIN:VCALENDAR
VERSION:2.0
PRODID:-//wp-events-plugin.com//6.6.4.4//EN
TZID:Asia/Tokyo
X-WR-TIMEZONE:Asia/Tokyo
BEGIN:VEVENT
UID:173@sfh-net.or.jp
DTSTART;TZID=Asia/Tokyo:20260423T150000
DTEND;TZID=Asia/Tokyo:20260423T163000
DTSTAMP:20260303T074822Z
URL:https://sfh-net.or.jp/schedule/%e4%bb%a4%e5%92%8c8%e5%b9%b4%e5%ba%a6%e
 3%80%80%e7%ac%ac1%e5%9b%9e%e3%80%80%e7%90%86%e4%ba%8b%e4%bc%9a%e3%81%ae%e9
 %96%8b%e5%82%ac/
SUMMARY:令和8年度　第1回　理事会の開催
DESCRIPTION:4月23日（木）にクロスウェーブに於いて第４会
 理事会を開催、８年度の事業計画や収支予算等につい
 て協議します。\n\n&nbsp\;
ATTACH;FMTTYPE=image/jpeg:https://sfh-net.or.jp/wp/wp-content/uploads/2026
 /02/IMG_2087-scaled.jpg
LOCATION:クロス・ウェーブ船橋\, 千葉県船橋市船橋市本町
 2-9-3\, 船橋市\, 千葉県\, 2730005\, 日本\, 日本
GEO:35.6974045;139.98311230000002
X-APPLE-STRUCTURED-LOCATION;VALUE=URI;X-ADDRESS=千葉県船橋市船橋市
 本町2-9-3\, 船橋市\, 千葉県\, 2730005\, 日本\, 日本;X-APPLE-RA
 DIUS=100;X-TITLE=クロス・ウェーブ船橋:geo:35.6974045,139.9831123
 0000002
END:VEVENT
BEGIN:VTIMEZONE
TZID:Asia/Tokyo
X-LIC-LOCATION:Asia/Tokyo
BEGIN:STANDARD
DTSTART:20250423T150000
TZOFFSETFROM:+0900
TZOFFSETTO:+0900
TZNAME:JST
END:STANDARD
END:VTIMEZONE
END:VCALENDAR